BEGIN:VCALENDAR
VERSION:2.0
PRODID:https://github.com/derhansen/sf_event_mgt
METHOD:PUBLISH
BEGIN:VEVENT
UID:55-88@www.oevip.at
CLASS: PUBLIC
SUMMARY:Hybrider Informationsabend für das Fachspezifikum Individualpsychologie
DESCRIPTION:Das „Psychotherapeutische Fachspezifikum: Individualpsycholog
 ie und Selbstpsychologie“ richtet sich an Absolvent*innen des Propädeut
 ikums bzw. des Bachelors "Psychotherapie Grundlagen", die Interesse an ein
 er tiefenpsychologischen Schule haben. Der Informationsabend bietet Ihnen 
 dabei die Gelegenheit, mit erfahrenen Psychotherapeut*innen in Austausch z
 u kommen und sich über Inhalte, Durchführung und Organisation des Univer
 sitätslehrgangs zu informieren. Zugleich wird es auch ausreichend Zeit ge
 ben, um auf Ihre individuellen Fragen einzugehen. \n\nHinweis: Bitte meld
 en Sie sich für den Informationsabend an und wählen Sie aus, ob Sie vor 
 Ort (Hernalser Hauptstraße 15/1/2, 1170 Wien) oder online teilnehmen möc
 hten.  Start des Fachspezifikums: Oktober 2026 Studienart: Universitätsle
 hrgang in Kooperation mit der Universität Wien und dem Wiener Kreis für 
 Psychoanalyse und Selbstpsychologie Dauer: 8 Semester (berufsbegleitend) U
 mfang: 120 ECTS weitere Infos: \n\nwww.postgraduatecenter.at/fachspezifik
 um
LOCATION:hybrid
DTSTAMP:20260420T130721Z
DTSTART:20260512T173000Z
DTEND:20260512T190000Z
END:VEVENT
END:VCALENDAR